BEGIN:VCALENDAR
VERSION:2.0
PRODID:-//FMŠ Na Výšinách - ECPv5.9.0//NONSGML v1.0//EN
CALSCALE:GREGORIAN
METHOD:PUBLISH
X-WR-CALNAME:FMŠ Na Výšinách
X-ORIGINAL-URL:https://www.msnavysinach.cz
X-WR-CALDESC:Akce na FMŠ Na Výšinách
BEGIN:VTIMEZONE
TZID:Europe/Prague
BEGIN:DAYLIGHT
TZOFFSETFROM:+0100
TZOFFSETTO:+0200
TZNAME:CEST
DTSTART:20260329T010000
END:DAYLIGHT
BEGIN:STANDARD
TZOFFSETFROM:+0200
TZOFFSETTO:+0100
TZNAME:CET
DTSTART:20261025T010000
END:STANDARD
END:VTIMEZONE
BEGIN:VEVENT
DTSTART;TZID=Europe/Prague:20260428T100000
DTEND;TZID=Europe/Prague:20260428T113000
DTSTAMP:20260425T011044
CREATED:20260331T132739Z
LAST-MODIFIED:20260331T132739Z
UID:4305-1777370400-1777375800@www.msnavysinach.cz
SUMMARY:Muzeum tramvají Střešovice
DESCRIPTION:10.00 hod – třída 3.A
URL:https://www.msnavysinach.cz/kalendar/muzeum-tramvaji-stresovice/
CATEGORIES:kalendář,kalendář bez hlavní stránky
END:VEVENT
END:VCALENDAR