BEGIN:VCALENDAR
VERSION:2.0
PRODID:-//FMŠ Na Výšinách - ECPv5.9.0//NONSGML v1.0//EN
CALSCALE:GREGORIAN
METHOD:PUBLISH
X-WR-CALNAME:FMŠ Na Výšinách
X-ORIGINAL-URL:https://www.msnavysinach.cz
X-WR-CALDESC:Akce na FMŠ Na Výšinách
BEGIN:VTIMEZONE
TZID:Europe/Prague
BEGIN:DAYLIGHT
TZOFFSETFROM:+0100
TZOFFSETTO:+0200
TZNAME:CEST
DTSTART:20260329T010000
END:DAYLIGHT
BEGIN:STANDARD
TZOFFSETFROM:+0200
TZOFFSETTO:+0100
TZNAME:CET
DTSTART:20261025T010000
END:STANDARD
END:VTIMEZONE
BEGIN:VEVENT
DTSTART;TZID=Europe/Prague:20260424T100000
DTEND;TZID=Europe/Prague:20260424T113000
DTSTAMP:20260425T021046
CREATED:20260331T132350Z
LAST-MODIFIED:20260331T132350Z
UID:4301-1777024800-1777030200@www.msnavysinach.cz
SUMMARY:Logopedie
DESCRIPTION:10.00 hod – třídy 1.C\, 1.D
URL:https://www.msnavysinach.cz/kalendar/logopedie/
CATEGORIES:kalendář,kalendář bez hlavní stránky
END:VEVENT
END:VCALENDAR