BEGIN:VCALENDAR
VERSION:2.0
PRODID:-//FMŠ Na Výšinách - ECPv5.9.0//NONSGML v1.0//EN
CALSCALE:GREGORIAN
METHOD:PUBLISH
X-WR-CALNAME:FMŠ Na Výšinách
X-ORIGINAL-URL:https://www.msnavysinach.cz
X-WR-CALDESC:Akce na FMŠ Na Výšinách
BEGIN:VTIMEZONE
TZID:Europe/Prague
BEGIN:DAYLIGHT
TZOFFSETFROM:+0100
TZOFFSETTO:+0200
TZNAME:CEST
DTSTART:20200329T010000
END:DAYLIGHT
BEGIN:STANDARD
TZOFFSETFROM:+0200
TZOFFSETTO:+0100
TZNAME:CET
DTSTART:20201025T010000
END:STANDARD
END:VTIMEZONE
BEGIN:VEVENT
DTSTART;VALUE=DATE:20200915
DTEND;VALUE=DATE:20200916
DTSTAMP:20260426T004918
CREATED:20200913T191519Z
LAST-MODIFIED:20200913T191707Z
UID:253-1600128000-1600214399@www.msnavysinach.cz
SUMMARY:Logopedická depistáž
DESCRIPTION:V úterý 15.9.2020 proběhne ve třídách 3. D\, 3. B\, 3.A logopedická depistáž. \nProsíme zákonné zástupce  o podpis souhlasu s logopedickou depistáži u jejich dětí. Bez souhlasu není možné logopedické šetření. \nDalší třídy budou v pozdějších termínech. Vaše Výšiny
URL:https://www.msnavysinach.cz/kalendar/logopedicka-depistaz/
CATEGORIES:kalendář
END:VEVENT
END:VCALENDAR