BEGIN:VCALENDAR
VERSION:2.0
PRODID:-//FMŠ Na Výšinách - ECPv5.9.0//NONSGML v1.0//EN
CALSCALE:GREGORIAN
METHOD:PUBLISH
X-WR-CALNAME:FMŠ Na Výšinách
X-ORIGINAL-URL:https://www.msnavysinach.cz
X-WR-CALDESC:Akce na FMŠ Na Výšinách
BEGIN:VTIMEZONE
TZID:Europe/Prague
BEGIN:DAYLIGHT
TZOFFSETFROM:+0100
TZOFFSETTO:+0200
TZNAME:CEST
DTSTART:20260329T010000
END:DAYLIGHT
BEGIN:STANDARD
TZOFFSETFROM:+0200
TZOFFSETTO:+0100
TZNAME:CET
DTSTART:20261025T010000
END:STANDARD
END:VTIMEZONE
BEGIN:VEVENT
DTSTART;TZID=Europe/Prague:20260326T123000
DTEND;TZID=Europe/Prague:20260326T170000
DTSTAMP:20260425T175931
CREATED:20260306T131619Z
LAST-MODIFIED:20260310T145222Z
UID:4227-1774528200-1774544400@www.msnavysinach.cz
SUMMARY:Jarní trhy
DESCRIPTION:Tvoření pro děti a rodiče a něco dobrého k tomu.
URL:https://www.msnavysinach.cz/kalendar/jarni-trhy-3/
CATEGORIES:kalendář,kalendář bez hlavní stránky
ATTACH;FMTTYPE=application/pdf:https://www.msnavysinach.cz/wp-content/uploads/letak-jarni-trhy-2026.pdf
END:VEVENT
END:VCALENDAR