BEGIN:VCALENDAR
VERSION:2.0
PRODID:-//FMŠ Na Výšinách - ECPv5.9.0//NONSGML v1.0//EN
CALSCALE:GREGORIAN
METHOD:PUBLISH
X-WR-CALNAME:FMŠ Na Výšinách
X-ORIGINAL-URL:https://www.msnavysinach.cz
X-WR-CALDESC:Akce na FMŠ Na Výšinách
BEGIN:VTIMEZONE
TZID:Europe/Prague
BEGIN:DAYLIGHT
TZOFFSETFROM:+0100
TZOFFSETTO:+0200
TZNAME:CEST
DTSTART:20200329T010000
END:DAYLIGHT
BEGIN:STANDARD
TZOFFSETFROM:+0200
TZOFFSETTO:+0100
TZNAME:CET
DTSTART:20201025T010000
END:STANDARD
END:VTIMEZONE
BEGIN:VEVENT
DTSTART;TZID=Europe/Prague:20200929T080000
DTEND;TZID=Europe/Prague:20200929T120000
DTSTAMP:20260426T022849
CREATED:20200914T181632Z
LAST-MODIFIED:20200914T182650Z
UID:267-1601366400-1601380800@www.msnavysinach.cz
SUMMARY:Divadlo Evy Hruškové a Jana Přeučila – Šípková Růženka  29.9.2020
DESCRIPTION:v úterý 15.9.2020 \nod 9.00 hodin třídy:  3.A\, 3.B\nod 10.00 hodin  třídy1.C\, 1.D\, 3.D
URL:https://www.msnavysinach.cz/kalendar/divadlo-evy-hruskove-a-jana-preucila-sipkova-ruzenka-2/
CATEGORIES:kalendář,kalendář a hlavní stránka
END:VEVENT
END:VCALENDAR