BEGIN:VCALENDAR
VERSION:2.0
PRODID:-//FMŠ Na Výšinách - ECPv5.9.0//NONSGML v1.0//EN
CALSCALE:GREGORIAN
METHOD:PUBLISH
X-WR-CALNAME:FMŠ Na Výšinách
X-ORIGINAL-URL:https://www.msnavysinach.cz
X-WR-CALDESC:Akce na FMŠ Na Výšinách
BEGIN:VTIMEZONE
TZID:Europe/Prague
BEGIN:DAYLIGHT
TZOFFSETFROM:+0100
TZOFFSETTO:+0200
TZNAME:CEST
DTSTART:20260329T010000
END:DAYLIGHT
BEGIN:STANDARD
TZOFFSETFROM:+0200
TZOFFSETTO:+0100
TZNAME:CET
DTSTART:20261025T010000
END:STANDARD
END:VTIMEZONE
BEGIN:VEVENT
DTSTART;TZID=Europe/Prague:20260330T093000
DTEND;TZID=Europe/Prague:20260330T110000
DTSTAMP:20260425T164124
CREATED:20260306T131456Z
LAST-MODIFIED:20260306T131456Z
UID:4225-1774863000-1774868400@www.msnavysinach.cz
SUMMARY:Den české vlajky
DESCRIPTION:celá FMŠ
URL:https://www.msnavysinach.cz/kalendar/den-ceske-vlajky/
CATEGORIES:kalendář,kalendář bez hlavní stránky
END:VEVENT
END:VCALENDAR